Workbook
Name All_Purpose_Travel: 'Q_Appendix A. Parameter Values'!$C$35
Name All_Purpose_Travel: 'Q_Appendix A. Parameter Values'!$C$35
Name All_Purpose_Travel: 'Q_Appendix A. Parameter Values'!$C$35
Name All_Purpose_Travel: 'Q_Appendix A. Parameter Values'!$C$35
Name All_Purpose_Travel: 'Q_Appendix A. Parameter Values'!$C$35
Name All_Purpose_Travel: 'Q_Appendix A. Parameter Values'!$C$35
Name All_Purpose_Travel: 'Q_Appendix A. Parameter Values'!$C$35
Name All_Purpose_Travel: 'Q_Appendix A. Parameter Values'!$C$35
Name All_Purpose_Travel: 'Q_Appendix A. Parameter Values'!$C$35
Name All_Purpose_Travel: 'Q_Appendix A. Parameter Values'!$C$35
Name All_Purpose_Travel: 'Q_Appendix A. Parameter Values'!$C$35
Name All_Purpose_Travel: 'Q_Appendix A. Parameter Values'!$C$35
Name All_Purpose_Travel: 'Q_Appendix A. Parameter Values'!$C$35
Name All_Purpose_Travel: 'Q_Appendix A. Parameter Values'!$C$35
Name All_Purpose_Travel: 'Q_Appendix A. Parameter Values'!$C$35
Name All_Purpose_Travel: 'Appendix A. Parameter Values'!$C$35
Name AvgDelay_27NB: Table3B.3_27TTS_NB[[#Totals],[Average Delay (hr/veh)]]
Name AvgDelay_27NB: Table3B.3_27TTS_NB[[#Totals],[Average Delay (hr/veh)]]
Name AvgDelay_27NB: Table3B.3_27TTS_NB[[#Totals],[Average Delay (hr/veh)]]
Name AvgDelay_27NB: Table3B.3_27TTS_NB[[#Totals],[Average Delay (hr/veh)]]
Name AvgDelay_27NB: Table3B.3_27TTS_NB[[#Totals],[Average Delay (hr/veh)]]
Name AvgDelay_27NB: Table3B.3_27TTS_NB[[#Totals],[Average Delay (hr/veh)]]
Name AvgDelay_27NB: Table3B.3_27TTS_NB[[#Totals],[Average Delay (hr/veh)]]
Name AvgDelay_27NB: Table3B.3_27TTS_NB100[[#Totals],[Average Delay (hr/veh)]]
Name AvgDelay_27NB: Table3B.3_27TTS_NB100[[#Totals],[Average Delay (hr/veh)]]
Name AvgDelay_27NB: Table3B.3_27TTS_NB100[[#Totals],[Average Delay (hr/veh)]]
Name AvgDelay_27NB: Table3B.3_27TTS_NB100[[#Totals],[Average Delay (hr/veh)]]
Name AvgDelay_27NB: Table3B.3_27TTS_NB100[[#Totals],[Average Delay (hr/veh)]]
Name AvgDelay_27NB: Table3B.3_27TTS_NB100[[#Totals],[Average Delay (hr/veh)]]
Name AvgDelay_27NB: Table3B.3_27TTS_NB100[[#Totals],[Average Delay (hr/veh)]]
Name AvgDelay_27NB: Table3B.3_27TTS_NB100[[#Totals],[Average Delay (hr/veh)]]
Name AvgDelay_27NB: Table3B.3_27TTS_NB100[[#Totals],[Average Delay (hr/veh)]]
Name AvgDelay_27NB: Table3B.3_27TTS_NB100[[#Totals],[Average Delay (hr/veh)]]
Name AvgDelay_27NB: Table3B.3_27TTS_NB100[[#Totals],[Average Delay (hr/veh)]]
Name AvgDelay_27NB: Table3B.3_27TTS_NB100[[#Totals],[Average Delay (hr/veh)]]
Name AvgDelay_27NB: Table3B.3_27TTS_NB100[[#Totals],[Average Delay (hr/veh)]]
Name AvgDelay_27NB: Table3B.3_27TTS_NB100[[#Totals],[Average Delay (hr/veh)]]
Name AvgDelay_27NB: Table3B.3_27TTS_NB100[[#Totals],[Average Delay (hr/veh)]]
Name AvgDelay_27NB: Table3B.3_27TTS_NB[[#Totals],[Average Delay (hr/veh)]]
Name AvgDelay_27PA: Table3B.5_27TTS_PA[[#Totals],[Average Delay: Per Vehicle (hr/veh)]]
Name AvgDelay_27PA: Table3B.5_27TTS_PA[[#Totals],[Average Delay: Per Vehicle (hr/veh)]]
Name AvgDelay_27PA: Table3B.5_27TTS_PA[[#Totals],[Average Delay: Per Vehicle (hr/veh)]]
Name AvgDelay_27PA: Table3B.5_27TTS_PA[[#Totals],[Average Delay: Per Vehicle (hr/veh)]]
Name AvgDelay_27PA: Table3B.5_27TTS_PA[[#Totals],[Average Delay: Per Vehicle (hr/veh)]]
Name AvgDelay_27PA: Table3B.5_27TTS_PA[[#Totals],[Average Delay: Per Vehicle (hr/veh)]]
Name AvgDelay_27PA: Table3B.5_27TTS_PA[[#Totals],[Average Delay: Per Vehicle (hr/veh)]]
Name AvgDelay_27PA: Table3B.5_27TTS_PA101[[#Totals],[Average Delay: Per Vehicle (hr/veh)]]
Name AvgDelay_27PA: Table3B.5_27TTS_PA101[[#Totals],[Average Delay: Per Vehicle (hr/veh)]]
Name AvgDelay_27PA: Table3B.5_27TTS_PA101[[#Totals],[Average Delay: Per Vehicle (hr/veh)]]
Name AvgDelay_27PA: Table3B.5_27TTS_PA101[[#Totals],[Average Delay: Per Vehicle (hr/veh)]]
Name AvgDelay_27PA: Table3B.5_27TTS_PA101[[#Totals],[Average Delay: Per Vehicle (hr/veh)]]
Name AvgDelay_27PA: Table3B.5_27TTS_PA101[[#Totals],[Average Delay: Per Vehicle (hr/veh)]]
Name AvgDelay_27PA: Table3B.5_27TTS_PA101[[#Totals],[Average Delay: Per Vehicle (hr/veh)]]
Name AvgDelay_27PA: Table3B.5_27TTS_PA101[[#Totals],[Average Delay: Per Vehicle (hr/veh)]]
Name AvgDelay_27PA: Table3B.5_27TTS_PA101[[#Totals],[Average Delay: Per Vehicle (hr/veh)]]
Name AvgDelay_27PA: Table3B.5_27TTS_PA101[[#Totals],[Average Delay: Per Vehicle (hr/veh)]]
Name AvgDelay_27PA: Table3B.5_27TTS_PA101[[#Totals],[Average Delay: Per Vehicle (hr/veh)]]
Name AvgDelay_27PA: Table3B.5_27TTS_PA101[[#Totals],[Average Delay: Per Vehicle (hr/veh)]]
Name AvgDelay_27PA: Table3B.5_27TTS_PA101[[#Totals],[Average Delay: Per Vehicle (hr/veh)]]
Name AvgDelay_27PA: Table3B.5_27TTS_PA101[[#Totals],[Average Delay: Per Vehicle (hr/veh)]]

Sheet ALL_ES-1. Executive Summary
A1: Project Benefit-Cost Analysis (BCA) Summary
A2: Project Name: | B2: =Project_Name -> Completing the I-95 Missing Move and Quonset Connector Ramps
A3: Component: | B3: Both Components, [1] Missing Moves and [2] Quonset Connector Ramps
A4: Date: | B4: =Date -> 45159
A6: This project will generate considerable safety, emissions, and time travel savings, which more than offset the cost of construction, work zone impacts, and long-term maintenance costs. The project's costs and benefits are summarized here, and reported in more detail in the "Project B&C Backup by Year" tab, which aggregates the annual benefits and costs from each area of this Benefit-Cost Analysis (BCA). This project has a favorable benefit-cost ratio of 2.18, and a net present value (NPV) of $134,680,926.58, indicating that the Completing the I-95 Missing Move and Quonset Connector Ramps Project is a worthwhile and cost-effective investment. Following a recommendation from USDOT, this BCA separates the two components of this project to evaluate their costs and benefits separately. The tabs pertaining to Component 1, The Missing Moves at I-95 and RI-4, are each labeled with the prefix "MM_" for "Missing Moves." The tabs pertaining to Component 2, the Quonset Connector Ramps, are labeled with the prefix "Q_", for "Quonset". In each section of this BCA, Component 1 costs and benefits appear first, followed by Component 2. This tab and its companion tab, "ALL_ES-2. B&C Summary Backup," tabulate the total costs and benefits of this entire project as a whole. Both components have positive B-C ratios, making each component independently worthwhile and cost-effective investments. However, because the two components complement one another in completing an essential freeway link for freight travel, RIDOT and its co-applicant Quonset Development Corporation (QDC) recommend delivery of the two components as a single project, and preliminary engineering work to date has combined the two components under one contract. Table ES-1.1 summarizes the project's costs and benefits. Table ES-1.2 shows the calculation of the project's benefits by year, discounted at both the primary (7%) and alternative (3%) discount rates. Table ES-1.3 summarizes the project's costs by year, discounted at both the primary (7%) and alternative (3%) discount rates.
E8: Table ES-1.1 Summary of Project Costs and Benefits
E10: Item | F10: Value
E11: Project Benefits Evaluation Period (Years, post-substantial completion) | F11: 30
E12: Primary Discount Rate: | F12: 0.07
E13: Alternative Discount Rate: | F13: 0.03
E14: Present Value Benefit (7%): | F14: =Table76134[[#Totals],[Project Benefits at 7% Discount Rate*]] -> 2.4884125e+08
E15: Present Value Cost (7%): | F15: =Table77135[[#Totals],[Project Costs at 7% Discount Rate]] -> 1.1416033e+08
E16: Project Benefit-Cost Ratio (7%): | F16: =F14/F15 -> 2.1797524
E17: Net Present Value (NPV) (7%) | F17: =Table76134[[#Totals],[Project Benefits at 7% Discount Rate*]]-Table77135[[#Totals],[Project Costs at 7% Discount Rate]] -> 1.3468093e+08
E18: Alternative B-C Ratio (3%) | F18: =Table76134[[#Totals],[Project Benefits at 3% Discount Rate]]/Table77135[[#Totals],[Project Costs at 3% Discount Rate]] -> 3.9748918
E19: Alternative NPV (3%) | F19: =Table76134[[#Totals],[Project Benefits at 3% Discount Rate]]-Table77135[[#Totals],[Project Costs at 3% Discount Rate]] -> 4.1151938e+08
B21: Table ES-1.2 Project Benefits by Year | H21: Table ES-1.3 Project Costs by Year
B23: Year# | C23: Year | D23: Present Value (PV) Project Benefits | E23: Project Benefits at 7% Discount Rate* | F23: Project Benefits at 3% Discount Rate | H23: Present Value (PV) Project Costs | I23: Project Costs at 7% Discount Rate | J23: Project Costs at 3% Discount Rate
B24: 1 | C24: 2022 | D24: ='ALL_ES-2. B&C Summary Backup'!M12 -> 0 | E24: ='ALL_ES-2. B&C Summary Backup'!N12 -> 0 | F24: =$D24/((1+$F$13)^$B24) -> 0 | H24: ='ALL_ES-2. B&C Summary Backup'!E58 -> 1180000 | I24: =$H24/((1+$F$12)^$B24) -> 1102803.7 | J24: =$H24/((1+$F$13)^$B24) -> 1145631.1
B25: 2 | C25: =C24+1 -> 2023 | D25: ='ALL_ES-2. B&C Summary Backup'!M13 -> -113871.34 | E25: ='ALL_ES-2. B&C Summary Backup'!N13 -> -99459.638 | F25: =$D25/((1+$F$13)^$B25) -> -107334.66 | H25: ='ALL_ES-2. B&C Summary Backup'!E59 -> 7580000 | I25: =$H25/((1+$F$12)^$B25) -> 6620665.6 | J25: =$H25/((1+$F$13)^$B25) -> 7144877
B26: 3 | C26: =C25+1 -> 2024 | D26: ='ALL_ES-2. B&C Summary Backup'!M14 -> -498662.78 | E26: ='ALL_ES-2. B&C Summary Backup'!N14 -> -407057.37 | F26: =$D26/((1+$F$13)^$B26) -> -456347.08 | H26: ='ALL_ES-2. B&C Summary Backup'!E60 -> 68400000 | I26: =$H26/((1+$F$12)^$B26) -> 55834775 | J26: =$H26/((1+$F$13)^$B26) -> 62595689
B27: 4 | C27: =C26+1 -> 2025 | D27: ='ALL_ES-2. B&C Summary Backup'!M15 -> -628195.04 | E27: ='ALL_ES-2. B&C Summary Backup'!N15 -> -479246.99 | F27: =$D27/((1+$F$13)^$B27) -> -558143.16 | H27: ='ALL_ES-2. B&C Summary Backup'!E61 -> 29100000 | I27: =$H27/((1+$F$12)^$B27) -> 22200251 | J27: =$H27/((1+$F$13)^$B27) -> 25854973
B28: 5 | C28: =C27+1 -> 2026 | D28: ='ALL_ES-2. B&C Summary Backup'!M16 -> -628195.04 | E28: ='ALL_ES-2. B&C Summary Backup'!N16 -> -447894.38 | F28: =$D28/((1+$F$13)^$B28) -> -541886.56 | H28: ='ALL_ES-2. B&C Summary Backup'!E62 -> 12525000 | I28: =$H28/((1+$F$12)^$B28) -> 8930151.9 | J28: =$H28/((1+$F$13)^$B28) -> 10804175
B29: 6 | C29: =C28+1 -> 2027 | D29: ='ALL_ES-2. B&C Summary Backup'!M17 -> 12929053 | E29: ='ALL_ES-2. B&C Summary Backup'!N17 -> 8616536.4 | F29: =$D29/((1+$F$13)^$B29) -> 10827878 | H29: ='ALL_ES-2. B&C Summary Backup'!E63 -> 16215000 | I29: =$H29/((1+$F$12)^$B29) -> 10804739 | J29: =$H29/((1+$F$13)^$B29) -> 13579807
B30: 7 | C30: =C29+1 -> 2028 | D30: ='ALL_ES-2. B&C Summary Backup'!M18 -> 14718255 | E30: ='ALL_ES-2. B&C Summary Backup'!N18 -> 9167768 | F30: =$D30/((1+$F$13)^$B30) -> 11967288 | H30: ='ALL_ES-2. B&C Summary Backup'!E64 -> 1048166.7 | I30: =$H30/((1+$F$12)^$B30) -> 652745.52 | J30: =$H30/((1+$F$13)^$B30) -> 852255.42
B31: 8 | C31: =C30+1 -> 2029 | D31: ='ALL_ES-2. B&C Summary Backup'!M19 -> 16280202 | E31: ='ALL_ES-2. B&C Summary Backup'!N19 -> 9477901.1 | F31: =$D31/((1+$F$13)^$B31) -> 12851742 | H31: ='ALL_ES-2. B&C Summary Backup'!E65 -> 1048166.7 | I31: =$H31/((1+$F$12)^$B31) -> 610042.54 | J31: =$H31/((1+$F$13)^$B31) -> 827432.45
B32: 9 | C32: =C31+1 -> 2030 | D32: ='ALL_ES-2. B&C Summary Backup'!M20 -> 17756415 | E32: ='ALL_ES-2. B&C Summary Backup'!N20 -> 9661811 | F32: =$D32/((1+$F$13)^$B32) -> 13608814 | H32: ='ALL_ES-2. B&C Summary Backup'!E66 -> 1048166.7 | I32: =$H32/((1+$F$12)^$B32) -> 570133.22 | J32: =$H32/((1+$F$13)^$B32) -> 803332.47
B33: 10 | C33: =C32+1 -> 2031 | D33: ='ALL_ES-2. B&C Summary Backup'!M21 -> 19231062 | E33: ='ALL_ES-2. B&C Summary Backup'!N21 -> 9780437.1 | F33: =$D33/((1+$F$13)^$B33) -> 14309716 | H33: ='ALL_ES-2. B&C Summary Backup'!E67 -> 1048166.7 | I33: =$H33/((1+$F$12)^$B33) -> 532834.78 | J33: =$H33/((1+$F$13)^$B33) -> 779934.44
B34: 11 | C34: =C33+1 -> 2032 | D34: ='ALL_ES-2. B&C Summary Backup'!M22 -> 20706519 | E34: ='ALL_ES-2. B&C Summary Backup'!N22 -> 9842937.6 | F34: =$D34/((1+$F$13)^$B34) -> 14958830 | H34: ='ALL_ES-2. B&C Summary Backup'!E68 -> 1048166.7 | I34: =$H34/((1+$F$12)^$B34) -> 497976.43 | J34: =$H34/((1+$F$13)^$B34) -> 757217.9
B35: 12 | C35: =C34+1 -> 2033 | D35: ='ALL_ES-2. B&C Summary Backup'!M23 -> 22181976 | E35: ='ALL_ES-2. B&C Summary Backup'!N23 -> 9855603.4 | F35: =$D35/((1+$F$13)^$B35) -> 15557992 | H35: ='ALL_ES-2. B&C Summary Backup'!E69 -> 1048166.7 | I35: =$H35/((1+$F$12)^$B35) -> 465398.54 | J35: =$H35/((1+$F$13)^$B35) -> 735163.01
B36: 13 | C36: =C35+1 -> 2034 | D36: ='ALL_ES-2. B&C Summary Backup'!M24 -> 23657433 | E36: ='ALL_ES-2. B&C Summary Backup'!N24 -> 9824684.8 | F36: =$D36/((1+$F$13)^$B36) -> 16109561 | H36: ='ALL_ES-2. B&C Summary Backup'!E70 -> 1048166.7 | I36: =$H36/((1+$F$12)^$B36) -> 434951.9 | J36: =$H36/((1+$F$13)^$B36) -> 713750.5
... B59: 36 | C59: =C58+1 -> 2057 | D59: ='ALL_ES-2. B&C Summary Backup'!M47 -> 56131944 | E59: ='ALL_ES-2. B&C Summary Backup'!N47 -> 4941717.7 | F59: =$D59/((1+$F$13)^$B59) -> 19367341 | H59: ='ALL_ES-2. B&C Summary Backup'!E93 -> 1048166.7 | I59: =$H59/((1+$F$12)^$B59) -> 91751.748 | J59: =$H59/((1+$F$13)^$B59) -> 361651.49
B60: Total | D60: =SUBTOTAL(109,Table76134[Present Value (PV) Project Benefits]) -> 1.0954682e+09 | E60: =SUBTOTAL(109,Table76134[Project Benefits at 7% Discount Rate*]) -> 2.4884125e+08 | F60: =SUBTOTAL(109,Table76134[Project Benefits at 3% Discount Rate]) -> 5.4985025e+08 | H60: =SUBTOTAL(109,Table77135[Present Value (PV) Project Costs]) -> 1.66445e+08 | I60: =SUBTOTAL(109,Table77135[Project Costs at 7% Discount Rate]) -> 1.1416033e+08 | J60: =SUBTOTAL(109,Table77135[Project Costs at 3% Discount Rate]) -> 1.3833087e+08

Sheet ALL_ES-2. B&C Summary Backup
A1: Project Benefit-Cost Analysis (BCA) Summary
A2: Project Name: | B2: =Project_Name -> Completing the I-95 Missing Move and Quonset Connector Ramps
A3: Component: | B3: Component 1, The Missing Moves
A4: Date: | B4: =Date -> 45159
A7: This tab provides a summary of project costs and benefits by year. Table ES-2.1 shows all project benefits by year. Table ES-2.2 shows all project costs by year. All estimates of project benefits and costs are derived from calculations presented in tabs 1 thru 12. All methodological assumptions and data sources are provided on the relevant sheets.
A9: Table ES-2.1 Project Benefits by Year
A11: Year # | B11: Year | C11: Safety Benefits | D11: Emissions Benefits, NOT Including CO2 | E11: Emissions Benefits, CO2 Only | F11: Travel Time Savings Benefits | G11: Foregone Cost Savings | H11: Work Zone Disbenefits | I11: Transit Facility Benefits | J11: Pedestrian Facility Benefits | K11: Cycling Facility Benefits | L11: Mortality Reduction Benefits | M11: TOTAL BENEFITS | N11: TOTAL BENEFITS at 7% Discount Rate (CO2 Discounted at 3% per NOFO) | O11: TOTAL BENEFITS at 3% Discount Rate
A12: 1 | B12: =First_Year -> 2023 | C12: ='MM_ES-2. B&C Summary Backup'!C12+'Q_ES-2. B&C Summary Backup'!C12 -> 0 | D12: ='MM_ES-2. B&C Summary Backup'!D12+'Q_ES-2. B&C Summary Backup'!D12 -> 0 | E12: ='MM_ES-2. B&C Summary Backup'!E12+'Q_ES-2. B&C Summary Backup'!E12 -> 0 | F12: ='MM_ES-2. B&C Summary Backup'!F12+'Q_ES-2. B&C Summary Backup'!F12 -> 0 | G12: ='MM_ES-2. B&C Summary Backup'!G12+'Q_ES-2. B&C Summary Backup'!G12 -> 0 | H12: ='MM_ES-2. B&C Summary Backup'!H12+'Q_ES-2. B&C Summary Backup'!H12 -> 0 | I12: ='MM_ES-2. B&C Summary Backup'!I12+'Q_ES-2. B&C Summary Backup'!I12 -> 0 | J12: ='MM_ES-2. B&C Summary Backup'!J12+'Q_ES-2. B&C Summary Backup'!J12 -> 0 | ... L12: ='MM_ES-2. B&C Summary Backup'!L12+'Q_ES-2. B&C Summary Backup'!L12 -> 0 | M12: =SUM(C12:L12) -> 0 | N12: =(($M12-$E12)/((1+'MM_ES-1. Executive Summary'!$F$12)^$A12))+($E12/(1+'MM_ES-1. Executive Summary'!$F$13)^$A12) -> 0 | O12: =$M12/((1+'MM_ES-1. Executive Summary'!$F$13)^$A12) -> 0
A13: =A12+1 -> 2 | B13: =IFERROR(IF(B12+1<Last_Year+1,B12+1,""),"") -> 2024 | C13: ='MM_ES-2. B&C Summary Backup'!C13+'Q_ES-2. B&C Summary Backup'!C13 -> 0 | D13: ='MM_ES-2. B&C Summary Backup'!D13+'Q_ES-2. B&C Summary Backup'!D13 -> 0 | E13: ='MM_ES-2. B&C Summary Backup'!E13+'Q_ES-2. B&C Summary Backup'!E13 -> 0 | F13: ='MM_ES-2. B&C Summary Backup'!F13+'Q_ES-2. B&C Summary Backup'!F13 -> 0 | G13: ='MM_ES-2. B&C Summary Backup'!G13+'Q_ES-2. B&C Summary Backup'!G13 -> 0 | H13: ='MM_ES-2. B&C Summary Backup'!H13+'Q_ES-2. B&C Summary Backup'!H13 -> -113871.34 | I13: ='MM_ES-2. B&C Summary Backup'!I13+'Q_ES-2. B&C Summary Backup'!I13 -> 0 | J13: ='MM_ES-2. B&C Summary Backup'!J13+'Q_ES-2. B&C Summary Backup'!J13 -> 0 | ... L13: ='MM_ES-2. B&C Summary Backup'!L13+'Q_ES-2. B&C Summary Backup'!L13 -> 0 | M13: =SUM(C13:L13) -> -113871.34 | N13: =(($M13-$E13)/((1+'MM_ES-1. Executive Summary'!$F$12)^$A13))+($E13/(1+'MM_ES-1. Executive Summary'!$F$13)^$A13) -> -99459.638 | O13: =$M13/((1+'MM_ES-1. Executive Summary'!$F$13)^$A13) -> -107334.66
A14: =A13+1 -> 3 | B14: =IFERROR(IF(B13+1<Last_Year+1,B13+1,""),"") -> 2025 | C14: ='MM_ES-2. B&C Summary Backup'!C14+'Q_ES-2. B&C Summary Backup'!C14 -> 0 | D14: ='MM_ES-2. B&C Summary Backup'!D14+'Q_ES-2. B&C Summary Backup'!D14 -> 0 | E14: ='MM_ES-2. B&C Summary Backup'!E14+'Q_ES-2. B&C Summary Backup'!E14 -> 0 | F14: ='MM_ES-2. B&C Summary Backup'!F14+'Q_ES-2. B&C Summary Backup'!F14 -> 0 | G14: ='MM_ES-2. B&C Summary Backup'!G14+'Q_ES-2. B&C Summary Backup'!G14 -> 0 | H14: ='MM_ES-2. B&C Summary Backup'!H14+'Q_ES-2. B&C Summary Backup'!H14 -> -498662.78 | I14: ='MM_ES-2. B&C Summary Backup'!I14+'Q_ES-2. B&C Summary Backup'!I14 -> 0 | J14: ='MM_ES-2. B&C Summary Backup'!J14+'Q_ES-2. B&C Summary Backup'!J14 -> 0 | ... L14: ='MM_ES-2. B&C Summary Backup'!L14+'Q_ES-2. B&C Summary Backup'!L14 -> 0 | M14: =SUM(C14:L14) -> -498662.78 | N14: =(($M14-$E14)/((1+'MM_ES-1. Executive Summary'!$F$12)^$A14))+($E14/(1+'MM_ES-1. Executive Summary'!$F$13)^$A14) -> -407057.37 | O14: =$M14/((1+'MM_ES-1. Executive Summary'!$F$13)^$A14) -> -456347.08
A15: =A14+1 -> 4 | B15: =IFERROR(IF(B14+1<Last_Year+1,B14+1,""),"") -> 2026 | C15: ='MM_ES-2. B&C Summary Backup'!C15+'Q_ES-2. B&C Summary Backup'!C15 -> 0 | D15: ='MM_ES-2. B&C Summary Backup'!D15+'Q_ES-2. B&C Summary Backup'!D15 -> 0 | E15: ='MM_ES-2. B&C Summary Backup'!E15+'Q_ES-2. B&C Summary Backup'!E15 -> 0 | F15: ='MM_ES-2. B&C Summary Backup'!F15+'Q_ES-2. B&C Summary Backup'!F15 -> 0 | G15: ='MM_ES-2. B&C Summary Backup'!G15+'Q_ES-2. B&C Summary Backup'!G15 -> 0 | H15: ='MM_ES-2. B&C Summary Backup'!H15+'Q_ES-2. B&C Summary Backup'!H15 -> -628195.04 | I15: ='MM_ES-2. B&C Summary Backup'!I15+'Q_ES-2. B&C Summary Backup'!I15 -> 0 | J15: ='MM_ES-2. B&C Summary Backup'!J15+'Q_ES-2. B&C Summary Backup'!J15 -> 0 | ... L15: ='MM_ES-2. B&C Summary Backup'!L15+'Q_ES-2. B&C Summary Backup'!L15 -> 0 | M15: =SUM(C15:L15) -> -628195.04 | N15: =(($M15-$E15)/((1+'MM_ES-1. Executive Summary'!$F$12)^$A15))+($E15/(1+'MM_ES-1. Executive Summary'!$F$13)^$A15) -> -479246.99 | O15: =$M15/((1+'MM_ES-1. Executive Summary'!$F$13)^$A15) -> -558143.16
A16: =A15+1 -> 5 | B16: =IFERROR(IF(B15+1<Last_Year+1,B15+1,""),"") -> 2027 | C16: ='MM_ES-2. B&C Summary Backup'!C16+'Q_ES-2. B&C Summary Backup'!C16 -> 0 | D16: ='MM_ES-2. B&C Summary Backup'!D16+'Q_ES-2. B&C Summary Backup'!D16 -> 0 | E16: ='MM_ES-2. B&C Summary Backup'!E16+'Q_ES-2. B&C Summary Backup'!E16 -> 0 | F16: ='MM_ES-2. B&C Summary Backup'!F16+'Q_ES-2. B&C Summary Backup'!F16 -> 0 | G16: ='MM_ES-2. B&C Summary Backup'!G16+'Q_ES-2. B&C Summary Backup'!G16 -> 0 | H16: ='MM_ES-2. B&C Summary Backup'!H16+'Q_ES-2. B&C Summary Backup'!H16 -> -628195.04 | I16: ='MM_ES-2. B&C Summary Backup'!I16+'Q_ES-2. B&C Summary Backup'!I16 -> 0 | J16: ='MM_ES-2. B&C Summary Backup'!J16+'Q_ES-2. B&C Summary Backup'!J16 -> 0 | ... L16: ='MM_ES-2. B&C Summary Backup'!L16+'Q_ES-2. B&C Summary Backup'!L16 -> 0 | M16: =SUM(C16:L16) -> -628195.04 | N16: =(($M16-$E16)/((1+'MM_ES-1. Executive Summary'!$F$12)^$A16))+($E16/(1+'MM_ES-1. Executive Summary'!$F$13)^$A16) -> -447894.38 | O16: =$M16/((1+'MM_ES-1. Executive Summary'!$F$13)^$A16) -> -541886.56
A17: =A16+1 -> 6 | B17: =IFERROR(IF(B16+1<Last_Year+1,B16+1,""),"") -> 2028 | C17: ='MM_ES-2. B&C Summary Backup'!C17+'Q_ES-2. B&C Summary Backup'!C17 -> 723725.8 | D17: ='MM_ES-2. B&C Summary Backup'!D17+'Q_ES-2. B&C Summary Backup'!D17 -> 66422.645 | E17: ='MM_ES-2. B&C Summary Backup'!E17+'Q_ES-2. B&C Summary Backup'!E17 -> 7962.8778 | F17: ='MM_ES-2. B&C Summary Backup'!F17+'Q_ES-2. B&C Summary Backup'!F17 -> 12531394 | G17: ='MM_ES-2. B&C Summary Backup'!G17+'Q_ES-2. B&C Summary Backup'!G17 -> 0 | H17: ='MM_ES-2. B&C Summary Backup'!H17+'Q_ES-2. B&C Summary Backup'!H17 -> -400452.36 | I17: ='MM_ES-2. B&C Summary Backup'!I17+'Q_ES-2. B&C Summary Backup'!I17 -> 0 | J17: ='MM_ES-2. B&C Summary Backup'!J17+'Q_ES-2. B&C Summary Backup'!J17 -> 0 | ... L17: ='MM_ES-2. B&C Summary Backup'!L17+'Q_ES-2. B&C Summary Backup'!L17 -> 0 | M17: =SUM(C17:L17) -> 12929053 | N17: =(($M17-$E17)/((1+'MM_ES-1. Executive Summary'!$F$12)^$A17))+($E17/(1+'MM_ES-1. Executive Summary'!$F$13)^$A17) -> 8616536.4 | O17: =$M17/((1+'MM_ES-1. Executive Summary'!$F$13)^$A17) -> 10827878
A18: =A17+1 -> 7 | B18: =IFERROR(IF(B17+1<Last_Year+1,B17+1,""),"") -> 2029 | C18: ='MM_ES-2. B&C Summary Backup'!C18+'Q_ES-2. B&C Summary Backup'!C18 -> 723725.8 | D18: ='MM_ES-2. B&C Summary Backup'!D18+'Q_ES-2. B&C Summary Backup'!D18 -> 78096.082 | E18: ='MM_ES-2. B&C Summary Backup'!E18+'Q_ES-2. B&C Summary Backup'!E18 -> 10393.987 | F18: ='MM_ES-2. B&C Summary Backup'!F18+'Q_ES-2. B&C Summary Backup'!F18 -> 13992394 | G18: ='MM_ES-2. B&C Summary Backup'!G18+'Q_ES-2. B&C Summary Backup'!G18 -> 0 | H18: ='MM_ES-2. B&C Summary Backup'!H18+'Q_ES-2. B&C Summary Backup'!H18 -> -86354.842 | I18: ='MM_ES-2. B&C Summary Backup'!I18+'Q_ES-2. B&C Summary Backup'!I18 -> 0 | J18: ='MM_ES-2. B&C Summary Backup'!J18+'Q_ES-2. B&C Summary Backup'!J18 -> 0 | ... L18: ='MM_ES-2. B&C Summary Backup'!L18+'Q_ES-2. B&C Summary Backup'!L18 -> 0 | M18: =SUM(C18:L18) -> 14718255 | N18: =(($M18-$E18)/((1+'MM_ES-1. Executive Summary'!$F$12)^$A18))+($E18/(1+'MM_ES-1. Executive Summary'!$F$13)^$A18) -> 9167768 | O18: =$M18/((1+'MM_ES-1. Executive Summary'!$F$13)^$A18) -> 11967288
A19: =A18+1 -> 8 | B19: =IFERROR(IF(B18+1<Last_Year+1,B18+1,""),"") -> 2030 | C19: ='MM_ES-2. B&C Summary Backup'!C19+'Q_ES-2. B&C Summary Backup'!C19 -> 723725.8 | D19: ='MM_ES-2. B&C Summary Backup'!D19+'Q_ES-2. B&C Summary Backup'!D19 -> 90182.249 | E19: ='MM_ES-2. B&C Summary Backup'!E19+'Q_ES-2. B&C Summary Backup'!E19 -> 12899.308 | F19: ='MM_ES-2. B&C Summary Backup'!F19+'Q_ES-2. B&C Summary Backup'!F19 -> 15453395 | G19: ='MM_ES-2. B&C Summary Backup'!G19+'Q_ES-2. B&C Summary Backup'!G19 -> 0 | H19: ='MM_ES-2. B&C Summary Backup'!H19+'Q_ES-2. B&C Summary Backup'!H19 -> 0 | I19: ='MM_ES-2. B&C Summary Backup'!I19+'Q_ES-2. B&C Summary Backup'!I19 -> 0 | J19: ='MM_ES-2. B&C Summary Backup'!J19+'Q_ES-2. B&C Summary Backup'!J19 -> 0 | ... L19: ='MM_ES-2. B&C Summary Backup'!L19+'Q_ES-2. B&C Summary Backup'!L19 -> 0 | M19: =SUM(C19:L19) -> 16280202 | N19: =(($M19-$E19)/((1+'MM_ES-1. Executive Summary'!$F$12)^$A19))+($E19/(1+'MM_ES-1. Executive Summary'!$F$13)^$A19) -> 9477901.1 | O19: =$M19/((1+'MM_ES-1. Executive Summary'!$F$13)^$A19) -> 12851742
A20: =A19+1 -> 9 | B20: =IFERROR(IF(B19+1<Last_Year+1,B19+1,""),"") -> 2031 | C20: ='MM_ES-2. B&C Summary Backup'!C20+'Q_ES-2. B&C Summary Backup'!C20 -> 723725.8 | D20: ='MM_ES-2. B&C Summary Backup'!D20+'Q_ES-2. B&C Summary Backup'!D20 -> 102573.45 | E20: ='MM_ES-2. B&C Summary Backup'!E20+'Q_ES-2. B&C Summary Backup'!E20 -> 15720.698 | F20: ='MM_ES-2. B&C Summary Backup'!F20+'Q_ES-2. B&C Summary Backup'!F20 -> 16914395 | G20: ='MM_ES-2. B&C Summary Backup'!G20+'Q_ES-2. B&C Summary Backup'!G20 -> 0 | H20: ='MM_ES-2. B&C Summary Backup'!H20+'Q_ES-2. B&C Summary Backup'!H20 -> 0 | I20: ='MM_ES-2. B&C Summary Backup'!I20+'Q_ES-2. B&C Summary Backup'!I20 -> 0 | J20: ='MM_ES-2. B&C Summary Backup'!J20+'Q_ES-2. B&C Summary Backup'!J20 -> 0 | ... L20: ='MM_ES-2. B&C Summary Backup'!L20+'Q_ES-2. B&C Summary Backup'!L20 -> 0 | M20: =SUM(C20:L20) -> 17756415 | N20: =(($M20-$E20)/((1+'MM_ES-1. Executive Summary'!$F$12)^$A20))+($E20/(1+'MM_ES-1. Executive Summary'!$F$13)^$A20) -> 9661811 | O20: =$M20/((1+'MM_ES-1. Executive Summary'!$F$13)^$A20) -> 13608814
A21: =A20+1 -> 10 | B21: =IFERROR(IF(B20+1<Last_Year+1,B20+1,""),"") -> 2032 | C21: ='MM_ES-2. B&C Summary Backup'!C21+'Q_ES-2. B&C Summary Backup'!C21 -> 723725.8 | D21: ='MM_ES-2. B&C Summary Backup'!D21+'Q_ES-2. B&C Summary Backup'!D21 -> 113528.54 | E21: ='MM_ES-2. B&C Summary Backup'!E21+'Q_ES-2. B&C Summary Backup'!E21 -> 18411.549 | F21: ='MM_ES-2. B&C Summary Backup'!F21+'Q_ES-2. B&C Summary Backup'!F21 -> 18375396 | G21: ='MM_ES-2. B&C Summary Backup'!G21+'Q_ES-2. B&C Summary Backup'!G21 -> 0 | H21: ='MM_ES-2. B&C Summary Backup'!H21+'Q_ES-2. B&C Summary Backup'!H21 -> 0 | I21: ='MM_ES-2. B&C Summary Backup'!I21+'Q_ES-2. B&C Summary Backup'!I21 -> 0 | J21: ='MM_ES-2. B&C Summary Backup'!J21+'Q_ES-2. B&C Summary Backup'!J21 -> 0 | ... L21: ='MM_ES-2. B&C Summary Backup'!L21+'Q_ES-2. B&C Summary Backup'!L21 -> 0 | M21: =SUM(C21:L21) -> 19231062 | N21: =(($M21-$E21)/((1+'MM_ES-1. Executive Summary'!$F$12)^$A21))+($E21/(1+'MM_ES-1. Executive Summary'!$F$13)^$A21) -> 9780437.1 | O21: =$M21/((1+'MM_ES-1. Executive Summary'!$F$13)^$A21) -> 14309716
A22: =A21+1 -> 11 | B22: =IFERROR(IF(B21+1<Last_Year+1,B21+1,""),"") -> 2033 | C22: ='MM_ES-2. B&C Summary Backup'!C22+'Q_ES-2. B&C Summary Backup'!C22 -> 723725.8 | D22: ='MM_ES-2. B&C Summary Backup'!D22+'Q_ES-2. B&C Summary Backup'!D22 -> 124483.64 | E22: ='MM_ES-2. B&C Summary Backup'!E22+'Q_ES-2. B&C Summary Backup'!E22 -> 21912.919 | F22: ='MM_ES-2. B&C Summary Backup'!F22+'Q_ES-2. B&C Summary Backup'!F22 -> 19836396 | G22: ='MM_ES-2. B&C Summary Backup'!G22+'Q_ES-2. B&C Summary Backup'!G22 -> 0 | H22: ='MM_ES-2. B&C Summary Backup'!H22+'Q_ES-2. B&C Summary Backup'!H22 -> 0 | I22: ='MM_ES-2. B&C Summary Backup'!I22+'Q_ES-2. B&C Summary Backup'!I22 -> 0 | J22: ='MM_ES-2. B&C Summary Backup'!J22+'Q_ES-2. B&C Summary Backup'!J22 -> 0 | ... L22: ='MM_ES-2. B&C Summary Backup'!L22+'Q_ES-2. B&C Summary Backup'!L22 -> 0 | M22: =SUM(C22:L22) -> 20706519 | N22: =(($M22-$E22)/((1+'MM_ES-1. Executive Summary'!$F$12)^$A22))+($E22/(1+'MM_ES-1. Executive Summary'!$F$13)^$A22) -> 9842937.6 | O22: =$M22/((1+'MM_ES-1. Executive Summary'!$F$13)^$A22) -> 14958830
A23: =A22+1 -> 12 | B23: =IFERROR(IF(B22+1<Last_Year+1,B22+1,""),"") -> 2034 | C23: ='MM_ES-2. B&C Summary Backup'!C23+'Q_ES-2. B&C Summary Backup'!C23 -> 723725.8 | D23: ='MM_ES-2. B&C Summary Backup'!D23+'Q_ES-2. B&C Summary Backup'!D23 -> 135438.74 | E23: ='MM_ES-2. B&C Summary Backup'!E23+'Q_ES-2. B&C Summary Backup'!E23 -> 25414.29 | F23: ='MM_ES-2. B&C Summary Backup'!F23+'Q_ES-2. B&C Summary Backup'!F23 -> 21297397 | G23: ='MM_ES-2. B&C Summary Backup'!G23+'Q_ES-2. B&C Summary Backup'!G23 -> 0 | H23: 0 | I23: ='MM_ES-2. B&C Summary Backup'!I23+'Q_ES-2. B&C Summary Backup'!I23 -> 0 | J23: ='MM_ES-2. B&C Summary Backup'!J23+'Q_ES-2. B&C Summary Backup'!J23 -> 0 | K23: ='MM_ES-2. B&C Summary Backup'!K23+'Q_ES-2. B&C Summary Backup'!K23 -> 0 | L23: ='MM_ES-2. B&C Summary Backup'!L23+'Q_ES-2. B&C Summary Backup'!L23 -> 0 | M23: =SUM(C23:L23) -> 22181976 | N23: =(($M23-$E23)/((1+'MM_ES-1. Executive Summary'!$F$12)^$A23))+($E23/(1+'MM_ES-1. Executive Summary'!$F$13)^$A23) -> 9855603.4 | O23: =$M23/((1+'MM_ES-1. Executive Summary'!$F$13)^$A23) -> 15557992
A24: =A23+1 -> 13 | B24: =IFERROR(IF(B23+1<Last_Year+1,B23+1,""),"") -> 2035 | C24: ='MM_ES-2. B&C Summary Backup'!C24+'Q_ES-2. B&C Summary Backup'!C24 -> 723725.8 | D24: ='MM_ES-2. B&C Summary Backup'!D24+'Q_ES-2. B&C Summary Backup'!D24 -> 146393.83 | E24: ='MM_ES-2. B&C Summary Backup'!E24+'Q_ES-2. B&C Summary Backup'!E24 -> 28915.661 | F24: ='MM_ES-2. B&C Summary Backup'!F24+'Q_ES-2. B&C Summary Backup'!F24 -> 22758398 | G24: ='MM_ES-2. B&C Summary Backup'!G24+'Q_ES-2. B&C Summary Backup'!G24 -> 0 | H24: 0 | I24: ='MM_ES-2. B&C Summary Backup'!I24+'Q_ES-2. B&C Summary Backup'!I24 -> 0 | J24: ='MM_ES-2. B&C Summary Backup'!J24+'Q_ES-2. B&C Summary Backup'!J24 -> 0 | K24: ='MM_ES-2. B&C Summary Backup'!K24+'Q_ES-2. B&C Summary Backup'!K24 -> 0 | L24: ='MM_ES-2. B&C Summary Backup'!L24+'Q_ES-2. B&C Summary Backup'!L24 -> 0 | M24: =SUM(C24:L24) -> 23657433 | N24: =(($M24-$E24)/((1+'MM_ES-1. Executive Summary'!$F$12)^$A24))+($E24/(1+'MM_ES-1. Executive Summary'!$F$13)^$A24) -> 9824684.8 | O24: =$M24/((1+'MM_ES-1. Executive Summary'!$F$13)^$A24) -> 16109561
A25: =A24+1 -> 14 | B25: =IFERROR(IF(B24+1<Last_Year+1,B24+1,""),"") -> 2036 | C25: ='MM_ES-2. B&C Summary Backup'!C25+'Q_ES-2. B&C Summary Backup'!C25 -> 723725.8 | D25: ='MM_ES-2. B&C Summary Backup'!D25+'Q_ES-2. B&C Summary Backup'!D25 -> 157348.93 | E25: ='MM_ES-2. B&C Summary Backup'!E25+'Q_ES-2. B&C Summary Backup'!E25 -> 32417.032 | F25: ='MM_ES-2. B&C Summary Backup'!F25+'Q_ES-2. B&C Summary Backup'!F25 -> 24219398 | G25: ='MM_ES-2. B&C Summary Backup'!G25+'Q_ES-2. B&C Summary Backup'!G25 -> 0 | H25: 0 | I25: ='MM_ES-2. B&C Summary Backup'!I25+'Q_ES-2. B&C Summary Backup'!I25 -> 0 | J25: ='MM_ES-2. B&C Summary Backup'!J25+'Q_ES-2. B&C Summary Backup'!J25 -> 0 | K25: ='MM_ES-2. B&C Summary Backup'!K25+'Q_ES-2. B&C Summary Backup'!K25 -> 0 | L25: ='MM_ES-2. B&C Summary Backup'!L25+'Q_ES-2. B&C Summary Backup'!L25 -> 0 | M25: =SUM(C25:L25) -> 25132890 | N25: =(($M25-$E25)/((1+'MM_ES-1. Executive Summary'!$F$12)^$A25))+($E25/(1+'MM_ES-1. Executive Summary'!$F$13)^$A25) -> 9755827.6 | O25: =$M25/((1+'MM_ES-1. Executive Summary'!$F$13)^$A25) -> 16615801
A26: =A25+1 -> 15 | B26: =IFERROR(IF(B25+1<Last_Year+1,B25+1,""),"") -> 2037 | C26: ='MM_ES-2. B&C Summary Backup'!C26+'Q_ES-2. B&C Summary Backup'!C26 -> 723725.8 | D26: ='MM_ES-2. B&C Summary Backup'!D26+'Q_ES-2. B&C Summary Backup'!D26 -> 168304.03 | E26: ='MM_ES-2. B&C Summary Backup'!E26+'Q_ES-2. B&C Summary Backup'!E26 -> 35918.402 | F26: ='MM_ES-2. B&C Summary Backup'!F26+'Q_ES-2. B&C Summary Backup'!F26 -> 25680399 | G26: ='MM_ES-2. B&C Summary Backup'!G26+'Q_ES-2. B&C Summary Backup'!G26 -> 0 | H26: 0 | I26: ='MM_ES-2. B&C Summary Backup'!I26+'Q_ES-2. B&C Summary Backup'!I26 -> 0 | J26: ='MM_ES-2. B&C Summary Backup'!J26+'Q_ES-2. B&C Summary Backup'!J26 -> 0 | K26: ='MM_ES-2. B&C Summary Backup'!K26+'Q_ES-2. B&C Summary Backup'!K26 -> 0 | L26: ='MM_ES-2. B&C Summary Backup'!L26+'Q_ES-2. B&C Summary Backup'!L26 -> 0 | M26: =SUM(C26:L26) -> 26608347 | N26: =(($M26-$E26)/((1+'MM_ES-1. Executive Summary'!$F$12)^$A26))+($E26/(1+'MM_ES-1. Executive Summary'!$F$13)^$A26) -> 9654125.6 | O26: =$M26/((1+'MM_ES-1. Executive Summary'!$F$13)^$A26) -> 17078885
A27: =A26+1 -> 16 | B27: =IFERROR(IF(B26+1<Last_Year+1,B26+1,""),"") -> 2038 | C27: ='MM_ES-2. B&C Summary Backup'!C27+'Q_ES-2. B&C Summary Backup'!C27 -> 723725.8 | D27: ='MM_ES-2. B&C Summary Backup'!D27+'Q_ES-2. B&C Summary Backup'!D27 -> 179259.13 | E27: ='MM_ES-2. B&C Summary Backup'!E27+'Q_ES-2. B&C Summary Backup'!E27 -> 39419.773 | F27: ='MM_ES-2. B&C Summary Backup'!F27+'Q_ES-2. B&C Summary Backup'!F27 -> 27141399 | G27: ='MM_ES-2. B&C Summary Backup'!G27+'Q_ES-2. B&C Summary Backup'!G27 -> 0 | H27: 0 | I27: ='MM_ES-2. B&C Summary Backup'!I27+'Q_ES-2. B&C Summary Backup'!I27 -> 0 | J27: ='MM_ES-2. B&C Summary Backup'!J27+'Q_ES-2. B&C Summary Backup'!J27 -> 0 | K27: ='MM_ES-2. B&C Summary Backup'!K27+'Q_ES-2. B&C Summary Backup'!K27 -> 0 | L27: ='MM_ES-2. B&C Summary Backup'!L27+'Q_ES-2. B&C Summary Backup'!L27 -> 0 | M27: =SUM(C27:L27) -> 28083804 | N27: =(($M27-$E27)/((1+'MM_ES-1. Executive Summary'!$F$12)^$A27))+($E27/(1+'MM_ES-1. Executive Summary'!$F$13)^$A27) -> 9524168.3 | O27: =$M27/((1+'MM_ES-1. Executive Summary'!$F$13)^$A27) -> 17500898
A28: =A27+1 -> 17 | B28: =IFERROR(IF(B27+1<Last_Year+1,B27+1,""),"") -> 2039 | C28: ='MM_ES-2. B&C Summary Backup'!C28+'Q_ES-2. B&C Summary Backup'!C28 -> 723725.8 | D28: ='MM_ES-2. B&C Summary Backup'!D28+'Q_ES-2. B&C Summary Backup'!D28 -> 190214.22 | E28: ='MM_ES-2. B&C Summary Backup'!E28+'Q_ES-2. B&C Summary Backup'!E28 -> 42921.144 | F28: ='MM_ES-2. B&C Summary Backup'!F28+'Q_ES-2. B&C Summary Backup'!F28 -> 28602400 | G28: ='MM_ES-2. B&C Summary Backup'!G28+'Q_ES-2. B&C Summary Backup'!G28 -> 0 | H28: 0 | I28: ='MM_ES-2. B&C Summary Backup'!I28+'Q_ES-2. B&C Summary Backup'!I28 -> 0 | J28: ='MM_ES-2. B&C Summary Backup'!J28+'Q_ES-2. B&C Summary Backup'!J28 -> 0 | K28: ='MM_ES-2. B&C Summary Backup'!K28+'Q_ES-2. B&C Summary Backup'!K28 -> 0 | L28: ='MM_ES-2. B&C Summary Backup'!L28+'Q_ES-2. B&C Summary Backup'!L28 -> 0 | M28: =SUM(C28:L28) -> 29559261 | N28: =(($M28-$E28)/((1+'MM_ES-1. Executive Summary'!$F$12)^$A28))+($E28/(1+'MM_ES-1. Executive Summary'!$F$13)^$A28) -> 9370085.3 | O28: =$M28/((1+'MM_ES-1. Executive Summary'!$F$13)^$A28) -> 17883839
A29: =A28+1 -> 18 | B29: =IFERROR(IF(B28+1<Last_Year+1,B28+1,""),"") -> 2040 | C29: ='MM_ES-2. B&C Summary Backup'!C29+'Q_ES-2. B&C Summary Backup'!C29 -> 723725.8 | D29: ='MM_ES-2. B&C Summary Backup'!D29+'Q_ES-2. B&C Summary Backup'!D29 -> 201169.32 | E29: ='MM_ES-2. B&C Summary Backup'!E29+'Q_ES-2. B&C Summary Backup'!E29 -> 46422.515 | F29: ='MM_ES-2. B&C Summary Backup'!F29+'Q_ES-2. B&C Summary Backup'!F29 -> 30063401 | G29: ='MM_ES-2. B&C Summary Backup'!G29+'Q_ES-2. B&C Summary Backup'!G29 -> 0 | H29: 0 | I29: ='MM_ES-2. B&C Summary Backup'!I29+'Q_ES-2. B&C Summary Backup'!I29 -> 0 | J29: ='MM_ES-2. B&C Summary Backup'!J29+'Q_ES-2. B&C Summary Backup'!J29 -> 0 | K29: ='MM_ES-2. B&C Summary Backup'!K29+'Q_ES-2. B&C Summary Backup'!K29 -> 0 | L29: ='MM_ES-2. B&C Summary Backup'!L29+'Q_ES-2. B&C Summary Backup'!L29 -> 0 | M29: =SUM(C29:L29) -> 31034718 | N29: =(($M29-$E29)/((1+'MM_ES-1. Executive Summary'!$F$12)^$A29))+($E29/(1+'MM_ES-1. Executive Summary'!$F$13)^$A29) -> 9195586.8 | O29: =$M29/((1+'MM_ES-1. Executive Summary'!$F$13)^$A29) -> 18229626
A30: =A29+1 -> 19 | B30: =IFERROR(IF(B29+1<Last_Year+1,B29+1,""),"") -> 2041 | C30: ='MM_ES-2. B&C Summary Backup'!C30+'Q_ES-2. B&C Summary Backup'!C30 -> 723725.8 | D30: ='MM_ES-2. B&C Summary Backup'!D30+'Q_ES-2. B&C Summary Backup'!D30 -> 212124.42 | E30: ='MM_ES-2. B&C Summary Backup'!E30+'Q_ES-2. B&C Summary Backup'!E30 -> 49923.885 | F30: ='MM_ES-2. B&C Summary Backup'!F30+'Q_ES-2. B&C Summary Backup'!F30 -> 31524401 | G30: ='MM_ES-2. B&C Summary Backup'!G30+'Q_ES-2. B&C Summary Backup'!G30 -> 0 | H30: 0 | I30: ='MM_ES-2. B&C Summary Backup'!I30+'Q_ES-2. B&C Summary Backup'!I30 -> 0 | J30: ='MM_ES-2. B&C Summary Backup'!J30+'Q_ES-2. B&C Summary Backup'!J30 -> 0 | K30: ='MM_ES-2. B&C Summary Backup'!K30+'Q_ES-2. B&C Summary Backup'!K30 -> 0 | L30: ='MM_ES-2. B&C Summary Backup'!L30+'Q_ES-2. B&C Summary Backup'!L30 -> 0 | M30: =SUM(C30:L30) -> 32510175 | N30: =(($M30-$E30)/((1+'MM_ES-1. Executive Summary'!$F$12)^$A30))+($E30/(1+'MM_ES-1. Executive Summary'!$F$13)^$A30) -> 9004000.9 | O30: =$M30/((1+'MM_ES-1. Executive Summary'!$F$13)^$A30) -> 18540099
A31: =A30+1 -> 20 | B31: =IFERROR(IF(B30+1<Last_Year+1,B30+1,""),"") -> 2042 | C31: ='MM_ES-2. B&C Summary Backup'!C31+'Q_ES-2. B&C Summary Backup'!C31 -> 723725.8 | D31: ='MM_ES-2. B&C Summary Backup'!D31+'Q_ES-2. B&C Summary Backup'!D31 -> 223079.51 | E31: ='MM_ES-2. B&C Summary Backup'!E31+'Q_ES-2. B&C Summary Backup'!E31 -> 53425.256 | F31: ='MM_ES-2. B&C Summary Backup'!F31+'Q_ES-2. B&C Summary Backup'!F31 -> 32985402 | G31: ='MM_ES-2. B&C Summary Backup'!G31+'Q_ES-2. B&C Summary Backup'!G31 -> 0 | H31: 0 | I31: ='MM_ES-2. B&C Summary Backup'!I31+'Q_ES-2. B&C Summary Backup'!I31 -> 0 | J31: ='MM_ES-2. B&C Summary Backup'!J31+'Q_ES-2. B&C Summary Backup'!J31 -> 0 | K31: ='MM_ES-2. B&C Summary Backup'!K31+'Q_ES-2. B&C Summary Backup'!K31 -> 0 | L31: ='MM_ES-2. B&C Summary Backup'!L31+'Q_ES-2. B&C Summary Backup'!L31 -> 0 | M31: =SUM(C31:L31) -> 33985632 | N31: =(($M31-$E31)/((1+'MM_ES-1. Executive Summary'!$F$12)^$A31))+($E31/(1+'MM_ES-1. Executive Summary'!$F$13)^$A31) -> 8798307.4 | O31: =$M31/((1+'MM_ES-1. Executive Summary'!$F$13)^$A31) -> 18817021
A32: =A31+1 -> 21 | B32: =IFERROR(IF(B31+1<Last_Year+1,B31+1,""),"") -> 2043 | C32: ='MM_ES-2. B&C Summary Backup'!C32+'Q_ES-2. B&C Summary Backup'!C32 -> 723725.8 | D32: ='MM_ES-2. B&C Summary Backup'!D32+'Q_ES-2. B&C Summary Backup'!D32 -> 234034.61 | E32: ='MM_ES-2. B&C Summary Backup'!E32+'Q_ES-2. B&C Summary Backup'!E32 -> 56926.627 | F32: ='MM_ES-2. B&C Summary Backup'!F32+'Q_ES-2. B&C Summary Backup'!F32 -> 34446402 | G32: ='MM_ES-2. B&C Summary Backup'!G32+'Q_ES-2. B&C Summary Backup'!G32 -> 0 | H32: 0 | I32: ='MM_ES-2. B&C Summary Backup'!I32+'Q_ES-2. B&C Summary Backup'!I32 -> 0 | J32: ='MM_ES-2. B&C Summary Backup'!J32+'Q_ES-2. B&C Summary Backup'!J32 -> 0 | K32: ='MM_ES-2. B&C Summary Backup'!K32+'Q_ES-2. B&C Summary Backup'!K32 -> 0 | L32: ='MM_ES-2. B&C Summary Backup'!L32+'Q_ES-2. B&C Summary Backup'!L32 -> 0 | M32: =SUM(C32:L32) -> 35461089 | N32: =(($M32-$E32)/((1+'MM_ES-1. Executive Summary'!$F$12)^$A32))+($E32/(1+'MM_ES-1. Executive Summary'!$F$13)^$A32) -> 8581169.5 | O32: =$M32/((1+'MM_ES-1. Executive Summary'!$F$13)^$A32) -> 19062083
A33: =A32+1 -> 22 | B33: =IFERROR(IF(B32+1<Last_Year+1,B32+1,""),"") -> 2044 | C33: ='MM_ES-2. B&C Summary Backup'!C33+'Q_ES-2. B&C Summary Backup'!C33 -> 723725.8 | D33: ='MM_ES-2. B&C Summary Backup'!D33+'Q_ES-2. B&C Summary Backup'!D33 -> 244989.71 | E33: ='MM_ES-2. B&C Summary Backup'!E33+'Q_ES-2. B&C Summary Backup'!E33 -> 60427.998 | F33: ='MM_ES-2. B&C Summary Backup'!F33+'Q_ES-2. B&C Summary Backup'!F33 -> 35907403 | G33: ='MM_ES-2. B&C Summary Backup'!G33+'Q_ES-2. B&C Summary Backup'!G33 -> 0 | H33: 0 | I33: ='MM_ES-2. B&C Summary Backup'!I33+'Q_ES-2. B&C Summary Backup'!I33 -> 0 | J33: ='MM_ES-2. B&C Summary Backup'!J33+'Q_ES-2. B&C Summary Backup'!J33 -> 0 | K33: ='MM_ES-2. B&C Summary Backup'!K33+'Q_ES-2. B&C Summary Backup'!K33 -> 0 | L33: ='MM_ES-2. B&C Summary Backup'!L33+'Q_ES-2. B&C Summary Backup'!L33 -> 0 | M33: =SUM(C33:L33) -> 36936546 | N33: =(($M33-$E33)/((1+'MM_ES-1. Executive Summary'!$F$12)^$A33))+($E33/(1+'MM_ES-1. Executive Summary'!$F$13)^$A33) -> 8354962.3 | O33: =$M33/((1+'MM_ES-1. Executive Summary'!$F$13)^$A33) -> 19276907
A34: =A33+1 -> 23 | B34: =IFERROR(IF(B33+1<Last_Year+1,B33+1,""),"") -> 2045 | C34: ='MM_ES-2. B&C Summary Backup'!C34+'Q_ES-2. B&C Summary Backup'!C34 -> 723725.8 | D34: ='MM_ES-2. B&C Summary Backup'!D34+'Q_ES-2. B&C Summary Backup'!D34 -> 255944.8 | E34: ='MM_ES-2. B&C Summary Backup'!E34+'Q_ES-2. B&C Summary Backup'!E34 -> 63929.368 | F34: ='MM_ES-2. B&C Summary Backup'!F34+'Q_ES-2. B&C Summary Backup'!F34 -> 37368403 | G34: ='MM_ES-2. B&C Summary Backup'!G34+'Q_ES-2. B&C Summary Backup'!G34 -> 0 | H34: 0 | I34: ='MM_ES-2. B&C Summary Backup'!I34+'Q_ES-2. B&C Summary Backup'!I34 -> 0 | J34: ='MM_ES-2. B&C Summary Backup'!J34+'Q_ES-2. B&C Summary Backup'!J34 -> 0 | K34: ='MM_ES-2. B&C Summary Backup'!K34+'Q_ES-2. B&C Summary Backup'!K34 -> 0 | L34: ='MM_ES-2. B&C Summary Backup'!L34+'Q_ES-2. B&C Summary Backup'!L34 -> 0 | M34: =SUM(C34:L34) -> 38412003 | N34: =(($M34-$E34)/((1+'MM_ES-1. Executive Summary'!$F$12)^$A34))+($E34/(1+'MM_ES-1. Executive Summary'!$F$13)^$A34) -> 8121799.2 | O34: =$M34/((1+'MM_ES-1. Executive Summary'!$F$13)^$A34) -> 19463045
... A47: =A46+1 -> 36 | B47: =IFERROR(IF(B46+1<Last_Year+1,B46+1,""),"") -> 2058 | C47: ='MM_ES-2. B&C Summary Backup'!C47+'Q_ES-2. B&C Summary Backup'!C47 -> 723725.8 | D47: ='MM_ES-2. B&C Summary Backup'!D47+'Q_ES-2. B&C Summary Backup'!D47 -> 398361.06 | E47: ='MM_ES-2. B&C Summary Backup'!E47+'Q_ES-2. B&C Summary Backup'!E47 -> 109447.19 | F47: ='MM_ES-2. B&C Summary Backup'!F47+'Q_ES-2. B&C Summary Backup'!F47 -> 54900410 | G47: ='MM_ES-2. B&C Summary Backup'!G47+'Q_ES-2. B&C Summary Backup'!G47 -> 0 | H47: 0 | I47: ='MM_ES-2. B&C Summary Backup'!I47+'Q_ES-2. B&C Summary Backup'!I47 -> 0 | J47: ='MM_ES-2. B&C Summary Backup'!J47+'Q_ES-2. B&C Summary Backup'!J47 -> 0 | K47: ='MM_ES-2. B&C Summary Backup'!K47+'Q_ES-2. B&C Summary Backup'!K47 -> 0 | L47: ='MM_ES-2. B&C Summary Backup'!L47+'Q_ES-2. B&C Summary Backup'!L47 -> 0 | M47: =SUM(C47:L47) -> 56131944 | N47: =(($M47-$E47)/((1+'MM_ES-1. Executive Summary'!$F$12)^$A47))+($E47/(1+'MM_ES-1. Executive Summary'!$F$13)^$A47) -> 4941717.7 | O47: =$M47/((1+'MM_ES-1. Executive Summary'!$F$13)^$A47) -> 19367341
A48: =A47+1 -> 37 | B48: =IFERROR(IF(B47+1<Last_Year+1,B47+1,""),"") | C48: ='MM_ES-2. B&C Summary Backup'!C48+'Q_ES-2. B&C Summary Backup'!C48 -> 0 | D48: ='MM_ES-2. B&C Summary Backup'!D48+'Q_ES-2. B&C Summary Backup'!D48 -> 0 | E48: ='MM_ES-2. B&C Summary Backup'!E48+'Q_ES-2. B&C Summary Backup'!E48 -> 0 | F48: ='MM_ES-2. B&C Summary Backup'!F48+'Q_ES-2. B&C Summary Backup'!F48 -> 0 | G48: ='MM_ES-2. B&C Summary Backup'!G48+'Q_ES-2. B&C Summary Backup'!G48 -> 0 | I48: ='MM_ES-2. B&C Summary Backup'!I48+'Q_ES-2. B&C Summary Backup'!I48 -> 0 | J48: ='MM_ES-2. B&C Summary Backup'!J48+'Q_ES-2. B&C Summary Backup'!J48 -> 0 | K48: ='MM_ES-2. B&C Summary Backup'!K48+'Q_ES-2. B&C Summary Backup'!K48 -> 0 | L48: ='MM_ES-2. B&C Summary Backup'!L48+'Q_ES-2. B&C Summary Backup'!L48 -> 0 | M48: =SUM(C48:L48) -> 0 | N48: 0 | O48: 0
A49: =A48+1 -> 38 | B49: =IFERROR(IF(B48+1<Last_Year+1,B48+1,""),"") | C49: ='MM_ES-2. B&C Summary Backup'!C49+'Q_ES-2. B&C Summary Backup'!C49 -> 0 | D49: ='MM_ES-2. B&C Summary Backup'!D49+'Q_ES-2. B&C Summary Backup'!D49 -> 0 | E49: ='MM_ES-2. B&C Summary Backup'!E49+'Q_ES-2. B&C Summary Backup'!E49 -> 0 | F49: ='MM_ES-2. B&C Summary Backup'!F49+'Q_ES-2. B&C Summary Backup'!F49 -> 0 | G49: ='MM_ES-2. B&C Summary Backup'!G49+'Q_ES-2. B&C Summary Backup'!G49 -> 0 | I49: ='MM_ES-2. B&C Summary Backup'!I49+'Q_ES-2. B&C Summary Backup'!I49 -> 0 | J49: ='MM_ES-2. B&C Summary Backup'!J49+'Q_ES-2. B&C Summary Backup'!J49 -> 0 | K49: ='MM_ES-2. B&C Summary Backup'!K49+'Q_ES-2. B&C Summary Backup'!K49 -> 0 | L49: ='MM_ES-2. B&C Summary Backup'!L49+'Q_ES-2. B&C Summary Backup'!L49 -> 0 | M49: =SUM(C49:L49) -> 0 | N49: 0 | O49: 0
A50: =A49+1 -> 39 | B50: =IFERROR(IF(B49+1<Last_Year+1,B49+1,""),"") | C50: ='MM_ES-2. B&C Summary Backup'!C50+'Q_ES-2. B&C Summary Backup'!C50 -> 0 | D50: ='MM_ES-2. B&C Summary Backup'!D50+'Q_ES-2. B&C Summary Backup'!D50 -> 0 | E50: ='MM_ES-2. B&C Summary Backup'!E50+'Q_ES-2. B&C Summary Backup'!E50 -> 0 | F50: ='MM_ES-2. B&C Summary Backup'!F50+'Q_ES-2. B&C Summary Backup'!F50 -> 0 | G50: ='MM_ES-2. B&C Summary Backup'!G50+'Q_ES-2. B&C Summary Backup'!G50 -> 0 | I50: ='MM_ES-2. B&C Summary Backup'!I50+'Q_ES-2. B&C Summary Backup'!I50 -> 0 | J50: ='MM_ES-2. B&C Summary Backup'!J50+'Q_ES-2. B&C Summary Backup'!J50 -> 0 | K50: ='MM_ES-2. B&C Summary Backup'!K50+'Q_ES-2. B&C Summary Backup'!K50 -> 0 | L50: ='MM_ES-2. B&C Summary Backup'!L50+'Q_ES-2. B&C Summary Backup'!L50 -> 0 | M50: =SUM(C50:L50) -> 0 | N50: 0 | O50: 0
A51: =A50+1 -> 40 | B51: =IFERROR(IF(B50+1<Last_Year+1,B50+1,""),"") | C51: ='MM_ES-2. B&C Summary Backup'!C51+'Q_ES-2. B&C Summary Backup'!C51 -> 0 | D51: ='MM_ES-2. B&C Summary Backup'!D51+'Q_ES-2. B&C Summary Backup'!D51 -> 0 | E51: ='MM_ES-2. B&C Summary Backup'!E51+'Q_ES-2. B&C Summary Backup'!E51 -> 0 | F51: ='MM_ES-2. B&C Summary Backup'!F51+'Q_ES-2. B&C Summary Backup'!F51 -> 0 | G51: ='MM_ES-2. B&C Summary Backup'!G51+'Q_ES-2. B&C Summary Backup'!G51 -> 0 | I51: ='MM_ES-2. B&C Summary Backup'!I51+'Q_ES-2. B&C Summary Backup'!I51 -> 0 | J51: ='MM_ES-2. B&C Summary Backup'!J51+'Q_ES-2. B&C Summary Backup'!J51 -> 0 | K51: ='MM_ES-2. B&C Summary Backup'!K51+'Q_ES-2. B&C Summary Backup'!K51 -> 0 | L51: ='MM_ES-2. B&C Summary Backup'!L51+'Q_ES-2. B&C Summary Backup'!L51 -> 0 | M51: =SUM(C51:L51) -> 0 | N51: 0 | O51: 0
A52: Present Value Benefits | C52: ='MM_ES-2. B&C Summary Backup'!C52+'Q_ES-2. B&C Summary Backup'!C52 -> 22435500 | D52: ='MM_ES-2. B&C Summary Backup'!D52+'Q_ES-2. B&C Summary Backup'!D52 -> 7247784.1 | E52: ='MM_ES-2. B&C Summary Backup'!E52+'Q_ES-2. B&C Summary Backup'!E52 -> 1773069.8 | F52: ='MM_ES-2. B&C Summary Backup'!F52+'Q_ES-2. B&C Summary Backup'!F52 -> 1.0663676e+09 | G52: ='MM_ES-2. B&C Summary Backup'!G52+'Q_ES-2. B&C Summary Backup'!G52 -> 0 | H52: ='MM_ES-2. B&C Summary Backup'!H52+'Q_ES-2. B&C Summary Backup'!H52 -> -2355731.4 | I52: ='MM_ES-2. B&C Summary Backup'!I52+'Q_ES-2. B&C Summary Backup'!I52 -> 0 | J52: ='MM_ES-2. B&C Summary Backup'!J52+'Q_ES-2. B&C Summary Backup'!J52 -> 0 | ... L52: ='MM_ES-2. B&C Summary Backup'!L52+'Q_ES-2. B&C Summary Backup'!L52 -> 0 | M52: =SUM(M12:M47) -> 1.0954682e+09 | N52: =SUM(N12:N47) -> 2.4884125e+08 | O52: =SUM(O12:O47) -> 5.4985025e+08
A55: Table ES-2.2 Project Costs by Year
A57: Year # | B57: Year | C57: Future Eligible Project Costs | D57: Lifecycle Management Costs | E57: TOTAL COSTS | F57: TOTAL COSTS at 7% Discount Rate | G57: TOTAL COSTS at 3% Discount Rate
A58: 1 | B58: =First_Year -> 2023 | C58: ='MM_ES-2. B&C Summary Backup'!C58+'Q_ES-2. B&C Summary Backup'!C58 -> 1180000 | D58: ='MM_ES-2. B&C Summary Backup'!D58+'Q_ES-2. B&C Summary Backup'!D58 -> 0 | E58: =SUM(C58:D58) -> 1180000 | F58: =$E58/((1+'MM_ES-1. Executive Summary'!$F$12)^$A12) -> 1102803.7 | G58: =$E58/((1+'MM_ES-1. Executive Summary'!$F$13)^$A12) -> 1145631.1
A59: =A58+1 -> 2 | B59: =IFERROR(IF(B58+1<Last_Year+1,B58+1,""),"") -> 2024 | C59: ='MM_ES-2. B&C Summary Backup'!C59+'Q_ES-2. B&C Summary Backup'!C59 -> 7580000 | D59: ='MM_ES-2. B&C Summary Backup'!D59+'Q_ES-2. B&C Summary Backup'!D59 -> 0 | E59: =SUM(C59:D59) -> 7580000 | F59: =$E59/((1+'MM_ES-1. Executive Summary'!$F$12)^$A13) -> 6620665.6 | G59: =$E59/((1+'MM_ES-1. Executive Summary'!$F$13)^$A13) -> 7144877
...

Sheet MM_ES-1. Executive Summary
A1: Project Benefit-Cost Analysis (BCA) Summary
A2: Project Name: | B2: =Project_Name -> Completing the I-95 Missing Move and Quonset Connector Ramps
A3: Component: | B3: Component 1, The Missing Moves
A4: Date: | B4: =Date -> 45159
A6: Component 1 of this project , the Missing Moves, will generate considerable safety, emissions, and time travel savings, which more than offset the cost of construction, work zone impacts, and long-term maintenance costs. The project's costs and benefits are summarized here, and reported in more detail in the "Project B&C Backup by Year" tab, which aggregates the annual benefits and costs from each area of this Benefit-Cost Analysis. Component 1 of this project has a favorable benefit-cost ratio of 2.17 and a net present value (NPV) of $91,729,383.89, indicating that Component 1 of the Completing the I-95 Missing Moves and Quonset Connector Ramps project is a worthwhile and cost-effective investment. Table ES-1.1 summarizes the project's costs and benefits. Table ES-1.2 shows the calculation of the project's benefits by year, discounted at both the primary (7%) and alternative (3%) discount rates. Table ES-1.3 summarizes the project's costs by year, discounted at both the primary (7%) and alternative (3%) discount rates.
E8: Table ES-1.1 Summary of Project Costs and Benefits
E10: Item | F10: Value
E11: Project Benefits Evaluation Period (Years, post-substantial completion) | F11: 30
E12: Primary Discount Rate: | F12: 0.07
E13: Alternative Discount Rate: | F13: 0.03
E14: Present Value Benefit (7%): | F14: =Table76[[#Totals],[Project Benefits at 7% Discount Rate*]] -> 1.7024645e+08
E15: Present Value Cost (7%): | F15: =Table77[[#Totals],[Project Costs at 7% Discount Rate]] -> 78517069
E16: Project Benefit-Cost Ratio (7%): | F16: =F14/F15 -> 2.1682732
E17: Net Present Value (NPV) (7%) | F17: =Table76[[#Totals],[Project Benefits at 7% Discount Rate*]]-Table77[[#Totals],[Project Costs at 7% Discount Rate]] -> 91729384
E18: Alternative B-C Ratio (3%) | F18: =Table76[[#Totals],[Project Benefits at 3% Discount Rate]]/Table77[[#Totals],[Project Costs at 3% Discount Rate]] -> 4.1362787
E19: Alternative NPV (3%) | F19: =Table76[[#Totals],[Project Benefits at 3% Discount Rate]]-Table77[[#Totals],[Project Costs at 3% Discount Rate]] -> 3.0122807e+08
B21: Table ES-1.2 Project Benefits by Year | H21: Table ES-1.3 Project Costs by Year
B23: Year# | C23: Year | D23: Present Value (PV) Project Benefits | E23: Project Benefits at 7% Discount Rate* | F23: Project Benefits at 3% Discount Rate | H23: Present Value (PV) Project Costs | I23: Project Costs at 7% Discount Rate | J23: Project Costs at 3% Discount Rate
B24: 1 | C24: 2022 | D24: ='MM_ES-2. B&C Summary Backup'!M12 -> 0 | E24: ='MM_ES-2. B&C Summary Backup'!N12 -> 0 | F24: =$D24/((1+$F$13)^$B24) -> 0 | H24: ='MM_ES-2. B&C Summary Backup'!E58 -> 700000 | I24: =$H24/((1+$F$12)^$B24) -> 654205.61 | J24: =$H24/((1+$F$13)^$B24) -> 679611.65
B25: 2 | C25: =C24+1 -> 2023 | D25: ='MM_ES-2. B&C Summary Backup'!M13 -> -113871.34 | E25: ='MM_ES-2. B&C Summary Backup'!N13 -> -99459.638 | F25: =$D25/((1+$F$13)^$B25) -> -107334.66 | H25: ='MM_ES-2. B&C Summary Backup'!E59 -> 5390000 | I25: =$H25/((1+$F$12)^$B25) -> 4707834.7 | J25: =$H25/((1+$F$13)^$B25) -> 5080592
B26: 3 | C26: =C25+1 -> 2024 | D26: ='MM_ES-2. B&C Summary Backup'!M14 -> -455485.36 | E26: ='MM_ES-2. B&C Summary Backup'!N14 -> -371811.73 | F26: =$D26/((1+$F$13)^$B26) -> -416833.63 | H26: ='MM_ES-2. B&C Summary Backup'!E60 -> 48500000 | I26: =$H26/((1+$F$12)^$B26) -> 39590447 | J26: =$H26/((1+$F$13)^$B26) -> 44384370
B27: 4 | C27: =C26+1 -> 2025 | D27: ='MM_ES-2. B&C Summary Backup'!M15 -> -455485.36 | E27: ='MM_ES-2. B&C Summary Backup'!N15 -> -347487.6 | F27: =$D27/((1+$F$13)^$B27) -> -404692.84 | H27: ='MM_ES-2. B&C Summary Backup'!E61 -> 18200000 | I27: =$H27/((1+$F$12)^$B27) -> 13884693 | J27: =$H27/((1+$F$13)^$B27) -> 16170464
B28: 5 | C28: =C27+1 -> 2026 | D28: ='MM_ES-2. B&C Summary Backup'!M16 -> -455485.36 | E28: ='MM_ES-2. B&C Summary Backup'!N16 -> -324754.77 | F28: =$D28/((1+$F$13)^$B28) -> -392905.67 | H28: ='MM_ES-2. B&C Summary Backup'!E62 -> 7400000 | I28: =$H28/((1+$F$12)^$B28) -> 5276097.7 | J28: =$H28/((1+$F$13)^$B28) -> 6383305
B29: 6 | C29: =C28+1 -> 2027 | D29: ='MM_ES-2. B&C Summary Backup'!M17 -> 4342494 | E29: ='MM_ES-2. B&C Summary Backup'!N17 -> 2894639.2 | F29: =$D29/((1+$F$13)^$B29) -> 3636770.3 | H29: ='MM_ES-2. B&C Summary Backup'!E63 -> 10810000 | I29: =$H29/((1+$F$12)^$B29) -> 7203159.4 | J29: =$H29/((1+$F$13)^$B29) -> 9053204.8
B30: 7 | C30: =C29+1 -> 2028 | D30: ='MM_ES-2. B&C Summary Backup'!M18 -> 6035354.2 | E30: ='MM_ES-2. B&C Summary Backup'!N18 -> 3760198.7 | F30: =$D30/((1+$F$13)^$B30) -> 4907295.3 | H30: ='MM_ES-2. B&C Summary Backup'!E64 -> 870833.33 | I30: =$H30/((1+$F$12)^$B30) -> 542311.23 | J30: =$H30/((1+$F$13)^$B30) -> 708067.19
B31: 8 | C31: =C30+1 -> 2029 | D31: ='MM_ES-2. B&C Summary Backup'!M19 -> 7500938.4 | E31: ='MM_ES-2. B&C Summary Backup'!N19 -> 4368025.3 | F31: =$D31/((1+$F$13)^$B31) -> 5921310 | H31: ='MM_ES-2. B&C Summary Backup'!E65 -> 870833.33 | I31: =$H31/((1+$F$12)^$B31) -> 506832.93 | J31: =$H31/((1+$F$13)^$B31) -> 687443.87
B32: 9 | C32: =C31+1 -> 2030 | D32: ='MM_ES-2. B&C Summary Backup'!M20 -> 8967172.5 | E32: ='MM_ES-2. B&C Summary Backup'!N20 -> 4880821.4 | F32: =$D32/((1+$F$13)^$B32) -> 6872591 | H32: ='MM_ES-2. B&C Summary Backup'!E66 -> 870833.33 | I32: =$H32/((1+$F$12)^$B32) -> 473675.63 | J32: =$H32/((1+$F$13)^$B32) -> 667421.24
B33: 10 | C33: =C32+1 -> 2031 | D33: ='MM_ES-2. B&C Summary Backup'!M21 -> 10432679 | E33: ='MM_ES-2. B&C Summary Backup'!N21 -> 5307618.7 | F33: =$D33/((1+$F$13)^$B33) -> 7762893.1 | H33: ='MM_ES-2. B&C Summary Backup'!E67 -> 870833.33 | I33: =$H33/((1+$F$12)^$B33) -> 442687.51 | J33: =$H33/((1+$F$13)^$B33) -> 647981.78
B34: 11 | C34: =C33+1 -> 2032 | D34: ='MM_ES-2. B&C Summary Backup'!M22 -> 11899108 | E34: ='MM_ES-2. B&C Summary Backup'!N22 -> 5658526.4 | F34: =$D34/((1+$F$13)^$B34) -> 8596168.5 | H34: ='MM_ES-2. B&C Summary Backup'!E68 -> 870833.33 | I34: =$H34/((1+$F$12)^$B34) -> 413726.64 | J34: =$H34/((1+$F$13)^$B34) -> 629108.53
B35: 12 | C35: =C34+1 -> 2033 | D35: ='MM_ES-2. B&C Summary Backup'!M23 -> 13365536 | E35: ='MM_ES-2. B&C Summary Backup'!N23 -> 5941027.5 | F35: =$D35/((1+$F$13)^$B35) -> 9374318 | H35: ='MM_ES-2. B&C Summary Backup'!E69 -> 870833.33 | I35: =$H35/((1+$F$12)^$B35) -> 386660.41 | J35: =$H35/((1+$F$13)^$B35) -> 610784.98
B36: 13 | C36: =C35+1 -> 2034 | D36: ='MM_ES-2. B&C Summary Backup'!M24 -> 14831964 | E36: ='MM_ES-2. B&C Summary Backup'!N24 -> 6162567.9 | F36: =$D36/((1+$F$13)^$B36) -> 10099846 | H36: ='MM_ES-2. B&C Summary Backup'!E70 -> 870833.33 | I36: =$H36/((1+$F$12)^$B36) -> 361364.87 | J36: =$H36/((1+$F$13)^$B36) -> 592995.13
... B59: 36 | C59: =C58+1 -> 2057 | D59: ='MM_ES-2. B&C Summary Backup'!M47 -> 47108665 | E59: ='MM_ES-2. B&C Summary Backup'!N47 -> 4154421.8 | F59: =$D59/((1+$F$13)^$B59) -> 16254017 | H59: ='MM_ES-2. B&C Summary Backup'!E93 -> 870833.33 | I59: =$H59/((1+$F$12)^$B59) -> 76228.794 | J59: =$H59/((1+$F$13)^$B59) -> 300465.74
B60: Total | D60: =SUBTOTAL(109,Table76[Present Value (PV) Project Benefits]) -> 8.2031318e+08 | E60: =SUBTOTAL(109,Table76[Project Benefits at 7% Discount Rate*]) -> 1.7024645e+08 | F60: =SUBTOTAL(109,Table76[Project Benefits at 3% Discount Rate]) -> 3.972744e+08 | H60: =SUBTOTAL(109,Table77[Present Value (PV) Project Costs]) -> 1.17125e+08 | I60: =SUBTOTAL(109,Table77[Project Costs at 7% Discount Rate]) -> 78517069 | J60: =SUBTOTAL(109,Table77[Project Costs at 3% Discount Rate]) -> 96046331

Sheet MM_ES-2. B&C Summary Backup
A1: Project Benefit-Cost Analysis (BCA) Summary
A2: Project Name: | B2: =Project_Name -> Completing the I-95 Missing Move and Quonset Connector Ramps
A3: Component: | B3: Component 1, The Missing Moves
A4: Date: | B4: =Date -> 45159
A7: This tab provides a summary of project costs and benefits by year. Table ES-2.1 shows all project benefits by year. Table ES-2.2 shows all project costs by year. All estimates of project benefits and costs are derived from calculations presented in tabs 1 thrugh 12. All methodological assumptions and data sources are provided on the relevant sheets.
A9: Table ES-2.1 Project Benefits by Year
A11: Year # | B11: Year | C11: Safety Benefits | D11: Emissions Benefits, NOT Including CO2 | E11: Emissions Benefits, CO2 Only | F11: Travel Time Savings Benefits | G11: Foregone Cost Savings | H11: Work Zone Disbenefits | I11: Transit Facility Benefits | J11: Pedestrian Facility Benefits | K11: Cycling Facility Benefits | L11: Mortality Reduction Benefits | M11: TOTAL BENEFITS | N11: TOTAL BENEFITS at 7% Discount Rate (CO2 Discounted at 3% per NOFO) | O11: TOTAL BENEFITS at 3% Discount Rate
A12: 1 | B12: =First_Year -> 2023 | H12: =-'MM_11. Work Zone Impact Costs'!B27 -> 0 | M12: =SUM(C12:L12) -> 0 | N12: =(($M12-$E12)/((1+'MM_ES-1. Executive Summary'!$F$12)^$A12))+($E12/(1+'MM_ES-1. Executive Summary'!$F$13)^$A12) -> 0 | O12: =$M12/((1+'MM_ES-1. Executive Summary'!$F$13)^$A12) -> 0
A13: =A12+1 -> 2 | B13: =IFERROR(IF(B12+1<Last_Year+1,B12+1,""),"") -> 2024 | H13: =-'MM_11. Work Zone Impact Costs'!B28 -> -113871.34 | M13: =SUM(C13:L13) -> -113871.34 | N13: =(($M13-$E13)/((1+'MM_ES-1. Executive Summary'!$F$12)^$A13))+($E13/(1+'MM_ES-1. Executive Summary'!$F$13)^$A13) -> -99459.638 | O13: =$M13/((1+'MM_ES-1. Executive Summary'!$F$13)^$A13) -> -107334.66
A14: =A13+1 -> 3 | B14: =IFERROR(IF(B13+1<Last_Year+1,B13+1,""),"") -> 2025 | H14: =-'MM_11. Work Zone Impact Costs'!B29 -> -455485.36 | M14: =SUM(C14:L14) -> -455485.36 | N14: =(($M14-$E14)/((1+'MM_ES-1. Executive Summary'!$F$12)^$A14))+($E14/(1+'MM_ES-1. Executive Summary'!$F$13)^$A14) -> -371811.73 | O14: =$M14/((1+'MM_ES-1. Executive Summary'!$F$13)^$A14) -> -416833.63
A15: =A14+1 -> 4 | B15: =IFERROR(IF(B14+1<Last_Year+1,B14+1,""),"") -> 2026 | H15: =-'MM_11. Work Zone Impact Costs'!B30 -> -455485.36 | M15: =SUM(C15:L15) -> -455485.36 | N15: =(($M15-$E15)/((1+'MM_ES-1. Executive Summary'!$F$12)^$A15))+($E15/(1+'MM_ES-1. Executive Summary'!$F$13)^$A15) -> -347487.6 | O15: =$M15/((1+'MM_ES-1. Executive Summary'!$F$13)^$A15) -> -404692.84
A16: =A15+1 -> 5 | B16: =IFERROR(IF(B15+1<Last_Year+1,B15+1,""),"") -> 2027 | H16: =-'MM_11. Work Zone Impact Costs'!B31 -> -455485.36 | M16: =SUM(C16:L16) -> -455485.36 | N16: =(($M16-$E16)/((1+'MM_ES-1. Executive Summary'!$F$12)^$A16))+($E16/(1+'MM_ES-1. Executive Summary'!$F$13)^$A16) -> -324754.77 | O16: =$M16/((1+'MM_ES-1. Executive Summary'!$F$13)^$A16) -> -392905.67
A17: =A16+1 -> 6 | B17: =IFERROR(IF(B16+1<Last_Year+1,B16+1,""),"") -> 2028 | C17: ='MM_1B. Safety Backup'!G21 -> 596682 | D17: =SUM('MM_2B. Emissions Backup'!C187:E187) -> 16416.52 | E17: ='MM_2B. Emissions Backup'!F187 -> 6147.7958 | F17: ='MM_3D. TTS Backup All Years'!G97 -> 3950990.3 | H17: =-'MM_11. Work Zone Impact Costs'!B32 -> -227742.68 | M17: =SUM(C17:L17) -> 4342494 | N17: =(($M17-$E17)/((1+'MM_ES-1. Executive Summary'!$F$12)^$A17))+($E17/(1+'MM_ES-1. Executive Summary'!$F$13)^$A17) -> 2894639.2 | O17: =$M17/((1+'MM_ES-1. Executive Summary'!$F$13)^$A17) -> 3636770.3
A18: =A17+1 -> 7 | B18: =IFERROR(IF(B17+1<Last_Year+1,B17+1,""),"") -> 2029 | C18: ='MM_1B. Safety Backup'!G22 -> 596682 | D18: =SUM('MM_2B. Emissions Backup'!C188:E188) -> 27685.589 | E18: ='MM_2B. Emissions Backup'!F188 -> 8844.2167 | F18: ='MM_3D. TTS Backup All Years'!G98 -> 5402142.4 | G18: =Table4.1_ForegoneSummary[[#Totals],[Annual Average]] -> 0 | H18: =-'MM_11. Work Zone Impact Costs'!B33 -> 0 | I18: =Table4.1_ForegoneSummary63[[#Totals],[Annual Benefit]] -> 0 | J18: =Table4.1_ForegoneSummary6365[[#Totals],[Annual Benefit]] -> 0 | K18: =Table70[[#Totals],[Annual Benefits]] -> 0 | L18: =Table71[[#Totals],[Annual Benefit]] -> 0 | M18: =SUM(C18:L18) -> 6035354.2 | N18: =(($M18-$E18)/((1+'MM_ES-1. Executive Summary'!$F$12)^$A18))+($E18/(1+'MM_ES-1. Executive Summary'!$F$13)^$A18) -> 3760198.7 | O18: =$M18/((1+'MM_ES-1. Executive Summary'!$F$13)^$A18) -> 4907295.3
A19: =A18+1 -> 8 | B19: =IFERROR(IF(B18+1<Last_Year+1,B18+1,""),"") -> 2030 | C19: ='MM_1B. Safety Backup'!G23 -> 596682 | D19: =SUM('MM_2B. Emissions Backup'!C189:E189) -> 39337.533 | E19: ='MM_2B. Emissions Backup'!F189 -> 11624.368 | F19: ='MM_3D. TTS Backup All Years'!G99 -> 6853294.5 | G19: =Table4.1_ForegoneSummary[[#Totals],[Annual Average]] -> 0 | H19: =-'MM_11. Work Zone Impact Costs'!B34 -> 0 | I19: =Table4.1_ForegoneSummary63[[#Totals],[Annual Benefit]] -> 0 | J19: =Table4.1_ForegoneSummary6365[[#Totals],[Annual Benefit]] -> 0 | K19: =Table70[[#Totals],[Annual Benefits]] -> 0 | L19: =Table71[[#Totals],[Annual Benefit]] -> 0 | M19: =SUM(C19:L19) -> 7500938.4 | N19: =(($M19-$E19)/((1+'MM_ES-1. Executive Summary'!$F$12)^$A19))+($E19/(1+'MM_ES-1. Executive Summary'!$F$13)^$A19) -> 4368025.3 | O19: =$M19/((1+'MM_ES-1. Executive Summary'!$F$13)^$A19) -> 5921310
A20: =A19+1 -> 9 | B20: =IFERROR(IF(B19+1<Last_Year+1,B19+1,""),"") -> 2031 | C20: ='MM_1B. Safety Backup'!G24 -> 596682 | D20: =SUM('MM_2B. Emissions Backup'!C190:E190) -> 51329.324 | E20: ='MM_2B. Emissions Backup'!F190 -> 14714.628 | F20: ='MM_3D. TTS Backup All Years'!G100 -> 8304446.5 | G20: =Table4.1_ForegoneSummary[[#Totals],[Annual Average]] -> 0 | H20: =-'MM_11. Work Zone Impact Costs'!B35 -> 0 | I20: =Table4.1_ForegoneSummary63[[#Totals],[Annual Benefit]] -> 0 | J20: =Table4.1_ForegoneSummary6365[[#Totals],[Annual Benefit]] -> 0 | K20: =Table70[[#Totals],[Annual Benefits]] -> 0 | L20: =Table71[[#Totals],[Annual Benefit]] -> 0 | M20: =SUM(C20:L20) -> 8967172.5 | N20: =(($M20-$E20)/((1+'MM_ES-1. Executive Summary'!$F$12)^$A20))+($E20/(1+'MM_ES-1. Executive Summary'!$F$13)^$A20) -> 4880821.4 | O20: =$M20/((1+'MM_ES-1. Executive Summary'!$F$13)^$A20) -> 6872591
